BEGIN:VCALENDAR
VERSION:2.0
PRODID:-//Green Bay Trail - ECPv6.15.17.1//NONSGML v1.0//EN
CALSCALE:GREGORIAN
METHOD:PUBLISH
X-WR-CALNAME:Green Bay Trail
X-ORIGINAL-URL:https://www.gbtrail.org
X-WR-CALDESC:Events for Green Bay Trail
REFRESH-INTERVAL;VALUE=DURATION:PT1H
X-Robots-Tag:noindex
X-PUBLISHED-TTL:PT1H
BEGIN:VTIMEZONE
TZID:America/Chicago
BEGIN:DAYLIGHT
TZOFFSETFROM:-0600
TZOFFSETTO:-0500
TZNAME:CDT
DTSTART:20240310T080000
END:DAYLIGHT
BEGIN:STANDARD
TZOFFSETFROM:-0500
TZOFFSETTO:-0600
TZNAME:CST
DTSTART:20241103T070000
END:STANDARD
BEGIN:DAYLIGHT
TZOFFSETFROM:-0600
TZOFFSETTO:-0500
TZNAME:CDT
DTSTART:20250309T080000
END:DAYLIGHT
BEGIN:STANDARD
TZOFFSETFROM:-0500
TZOFFSETTO:-0600
TZNAME:CST
DTSTART:20251102T070000
END:STANDARD
BEGIN:DAYLIGHT
TZOFFSETFROM:-0600
TZOFFSETTO:-0500
TZNAME:CDT
DTSTART:20260308T080000
END:DAYLIGHT
BEGIN:STANDARD
TZOFFSETFROM:-0500
TZOFFSETTO:-0600
TZNAME:CST
DTSTART:20261101T070000
END:STANDARD
END:VTIMEZONE
BEGIN:VEVENT
DTSTART;TZID=America/Chicago:20251004T090000
DTEND;TZID=America/Chicago:20251004T110000
DTSTAMP:20260424T110436
CREATED:20250916T145017Z
LAST-MODIFIED:20250916T151549Z
UID:10000553-1759568400-1759575600@www.gbtrail.org
SUMMARY:Trail Restoration Day
DESCRIPTION:Today\, we will be working in Winnetka. We will be removing buckthorn and honeysuckle saplings as well as other non-native plants from the Trail north of the Ash & Maple Access. We’ll kickoff at 9 am with a discussion of the plans for the morning. We will plan to wrap up around 11. Feel free to join us whenever you can for as long as you can. \nPark along Ash Street. Use 654 Ash Street in Winnetka for your map app. Despite the summer temps\, you’ll probably be more comfortable in the vegetation wearing long pants instead of shorts; and shoes instead of sandals. Bring your favorite hand shears or loppers\, if you have them. \nOur point person for the work on Saturday will be Bryan Lammers. Bryan is a trustee with Friends and is our lead steward for this section of the Trail. If you have questions\, call or text him at 309-696-4492. \nUpdated information is available on Facebook and Instagram. Contact us at info@gbtrail.net. \nVisit the website again for updates and  seed collection and cleaning dates later in the season. \n  \n  \n 
URL:https://www.gbtrail.org/calendar/trail-restoration-day-9/
LOCATION:Ash and Maple in Winnetka\, 654 Ash Street\, Winnetka\, IL\, 60093\, United States
CATEGORIES:GBTrail Day
ATTACH;FMTTYPE=image/jpeg:https://www.gbtrail.org/wp-content/uploads/2025/06/2024-Mary-Park-Workday_42.jpg
END:VEVENT
BEGIN:VEVENT
DTSTART;TZID=America/Chicago:20250726T090000
DTEND;TZID=America/Chicago:20250726T130000
DTSTAMP:20260424T110436
CREATED:20250512T171827Z
LAST-MODIFIED:20250724T115336Z
UID:10000541-1753520400-1753534800@www.gbtrail.org
SUMMARY:Green Bay Trail Day 2025
DESCRIPTION:6th Annual Green Bay Trail DaySaturday\, July 26 from 9 am – 1 pm\n			\n			\n				\n				\n				\n				\n			\n				\n				\n				\n				\n				\n				\n				\n				\n				\n				\n				Download Trail Day Map \n			\n				\n				\n				\n				\n				\n			\n			\n				\n				\n				\n				\n				\n				\n				\n				\n				\n				\n			\n			\n				\n				\n				\n				\n			\n				\n				\n				\n				\n				\n				\n				\n				\n				\n				\n				\nEnjoy the Trail’s summer blooms\, birds and butterflies along the restored paths.\nFamilies and kids: Enjoy the Glencoe Library’s children’s activities and book bike. Try your hand at the Friends’ bee toss. View insects with a bug box.\nWatch Plein Air Painters capture the beauty of the Trail’s blooms.\nStop by the Recyclery Mobile bike shop sponsored by the Glencoe Park District. Learn how to tune up your bike. Meet other bike organizations and enthusiasts.\nLook for the juggler along the trail.\nAdopt a Pet: See pets available for adoption from Wright-Way Rescue.\nGardeners\, Environmentalists and Nature lovers: Obtain expert advice on sustainable gardening advice\, buckthorn removal\, native plants and tree selection. Collect gardening resources. Learn how to join the Homegrown National Park. Take home free tree saplings and plants\nButterflies and bird enthusiasts: Visit the butterfly hatchery to watch the metamorphosis of butterflies. Chat with Audubon representatives for birding tips and programs.\nHistory Buffs: Discover the North Shore’s history with Glencoe and Winnetka Historical Society representatives. Learn why the North Shore Train line’s tracks were moved. Find the remnants of Glencoe’s early train station stops.\nDiscover the Fairy houses hidden along the Trail made by families with the Glencoe Library\n\nAND MUCH MORE
URL:https://www.gbtrail.org/calendar/green-bay-trail-day-2025/
CATEGORIES:GBTrail Day
ATTACH;FMTTYPE=image/jpeg:https://www.gbtrail.org/wp-content/uploads/2024/04/Green-Bay-Trail-Day_01.jpeg
END:VEVENT
END:VCALENDAR